BEGIN:VCALENDAR
VERSION:2.0
PRODID:SchoolNow
CALSCALE:GREGORIAN
BEGIN:VEVENT
UID:c7aefa40-ae1c-11f0-b5c6-0afffe1aa873
DTSTAMP:20251216T200039Z
SUMMARY:6th Boys Game Vs St. John’s
URL;VALUE=URI:https://www.brookfieldchristian.org/athletics/basketball-boys
 -6th/calendar/8737205/6th-boys-game-vs-st-john-s
DTSTART:20251202T225000Z
DTEND:20251202T234000Z
END:VEVENT
END:VCALENDAR
