BEGIN:VCALENDAR
VERSION:2.0
PRODID:SchoolNow
CALSCALE:GREGORIAN
BEGIN:VEVENT
UID:c7aefb4e-ae1c-11f0-912b-0afffe1aa873
DTSTAMP:20251216T200039Z
SUMMARY:6th Boys Game @ Mt Calvary Lutheran
LOCATION:Mount Calvary Lutheran Church\, 1941 Madison St\, Waukesha\, WI 53
 188\, USA
URL;VALUE=URI:https://www.brookfieldchristian.org/athletics/basketball-boys
 -6th/calendar/8737206/6th-boys-game-mt-calvary-lutheran
DTSTART:20251204T234000Z
DTEND:20251205T003000Z
END:VEVENT
END:VCALENDAR
