BEGIN:VCALENDAR
VERSION:2.0
PRODID:SchoolNow
CALSCALE:GREGORIAN
BEGIN:VEVENT
UID:12480206-aee8-11f0-b994-0a58a9feac02
DTSTAMP:20251216T200039Z
SUMMARY:6th Boys Game Vs Immanuel Lutheran
URL;VALUE=URI:https://www.brookfieldchristian.org/athletics/basketball-boys
 -6th/calendar/8740950/6th-boys-game-vs-immanuel-lutheran
DTSTART:20251219T003000Z
DTEND:20251219T013000Z
END:VEVENT
END:VCALENDAR
