BEGIN:VCALENDAR
VERSION:2.0
PRODID:SchoolNow
CALSCALE:GREGORIAN
BEGIN:VEVENT
UID:12480d3c-aee8-11f0-adb1-0a58a9feac02
DTSTAMP:20251216T200039Z
SUMMARY:6th Boys Game Vs Hales Corners
URL;VALUE=URI:https://www.brookfieldchristian.org/athletics/basketball-boys
 -6th/calendar/8740951/6th-boys-game-vs-hales-corners
DTSTART:20251209T013000Z
DTEND:20251209T023000Z
END:VEVENT
END:VCALENDAR
