BEGIN:VCALENDAR
VERSION:2.0
PRODID:SchoolNow
CALSCALE:GREGORIAN
BEGIN:VEVENT
UID:12480fee-aee8-11f0-8ce2-0a58a9feac02
DTSTAMP:20251216T200039Z
SUMMARY:6th Boys Game @ Divine Redeemer
LOCATION:Divine Redeemer Lutheran School\, 31385 Hill Rd\, Hartland\, WI 53
 029\, USA
URL;VALUE=URI:https://www.brookfieldchristian.org/athletics/basketball-boys
 -6th/calendar/8740952/6th-boys-game-divine-redeemer
DTSTART:20260106T223000Z
DTEND:20260106T233000Z
END:VEVENT
END:VCALENDAR
