BEGIN:VCALENDAR
VERSION:2.0
PRODID:SchoolNow
CALSCALE:GREGORIAN
BEGIN:VEVENT
UID:12481228-aee8-11f0-8417-0a58a9feac02
DTSTAMP:20251216T200039Z
SUMMARY:6th Boys Game vs St Marcus
URL;VALUE=URI:https://www.brookfieldchristian.org/athletics/basketball-boys
 -6th/calendar/8740954/6th-boys-game-vs-st-marcus
DTSTART:20260113T013000Z
DTEND:20260113T023000Z
END:VEVENT
END:VCALENDAR
