BEGIN:VCALENDAR
VERSION:2.0
PRODID:SchoolNow
CALSCALE:GREGORIAN
BEGIN:VEVENT
UID:12481322-aee8-11f0-8835-0a58a9feac02
DTSTAMP:20251216T200039Z
SUMMARY:6th Boys Game @ Heritage Christian
LOCATION:Heritage Christian Schools\, 3500 S Glen Park Rd\, New Berlin\, WI
  53151\, USA
URL;VALUE=URI:https://www.brookfieldchristian.org/athletics/basketball-boys
 -6th/calendar/8740955/6th-boys-game-heritage-christian
DTSTART:20260115T230000Z
DTEND:20260116T000000Z
END:VEVENT
END:VCALENDAR
