BEGIN:VCALENDAR
VERSION:2.0
PRODID:SchoolNow
CALSCALE:GREGORIAN
BEGIN:VEVENT
UID:12481412-aee8-11f0-a7e8-0a58a9feac02
DTSTAMP:20251216T200039Z
SUMMARY:6th Boys Game Vs Brookfield Academy
URL;VALUE=URI:https://www.brookfieldchristian.org/athletics/basketball-boys
 -6th/calendar/8740956/6th-boys-game-vs-brookfield-academy
DTSTART:20260119T230000Z
DTEND:20260120T000000Z
END:VEVENT
END:VCALENDAR
