BEGIN:VCALENDAR
VERSION:2.0
PRODID:SchoolNow
CALSCALE:GREGORIAN
BEGIN:VEVENT
UID:1248150c-aee8-11f0-8e96-0a58a9feac02
DTSTAMP:20251216T200039Z
SUMMARY:6th Boys Game @ FIL - Cedarburg
LOCATION:First Immanuel Lutheran Church & School\, W67N622 Evergreen Blvd\,
  Cedarburg\, WI 53012\, USA
URL;VALUE=URI:https://www.brookfieldchristian.org/athletics/basketball-boys
 -6th/calendar/8740958/6th-boys-game-fil-cedarburg
DTSTART:20260122T233000Z
DTEND:20260123T003000Z
END:VEVENT
END:VCALENDAR
