BEGIN:VCALENDAR
VERSION:2.0
PRODID:SchoolNow
CALSCALE:GREGORIAN
BEGIN:VEVENT
UID:f5d3219a-b118-11f0-84d1-0a58a9feac02
DTSTAMP:20251216T200039Z
SUMMARY:6th Boys Practice
URL;VALUE=URI:https://www.brookfieldchristian.org/athletics/basketball-boys
 -6th/calendar/8748280/6th-boys-practice
DTSTART:20260107T213000Z
DTEND:20260107T224500Z
END:VEVENT
END:VCALENDAR
