BEGIN:VCALENDAR
VERSION:2.0
PRODID:SchoolNow
CALSCALE:GREGORIAN
BEGIN:VEVENT
UID:f5d36cc2-b118-11f0-b1f0-0a58a9feac02
DTSTAMP:20251216T200039Z
SUMMARY:6th Boys Basketball Practice
URL;VALUE=URI:https://www.brookfieldchristian.org/athletics/basketball-boys
 -6th/calendar/8748283/6th-boys-basketball-practice
DTSTART:20260102T163000Z
DTEND:20260102T180000Z
END:VEVENT
END:VCALENDAR
