BEGIN:VCALENDAR
VERSION:2.0
PRODID:SchoolNow
CALSCALE:GREGORIAN
BEGIN:VEVENT
UID:bf1d080e-b547-11f0-9cef-0e45480e7d59
DTSTAMP:20251216T200039Z
SUMMARY:6th Boys Game @ Grace Lutheran
LOCATION:Grace Evangelical Lutheran School\, N87W16173 Kenwood Blvd\, Menom
 onee Falls\, WI 53051\, USA
URL;VALUE=URI:https://www.brookfieldchristian.org/athletics/basketball-boys
 -6th/calendar/8760688/6th-boys-game-grace-lutheran
DTSTART:20260114T003000Z
DTEND:20260114T013000Z
END:VEVENT
END:VCALENDAR
