BEGIN:VCALENDAR
VERSION:2.0
PRODID:SchoolNow
CALSCALE:GREGORIAN
BEGIN:VEVENT
UID:b507bda6-b613-11f0-a3e2-0e0ab61e3fdf
DTSTAMP:20251216T200039Z
SUMMARY:6th Boys Basketball Practice
URL;VALUE=URI:https://www.brookfieldchristian.org/athletics/basketball-boys
 -6th/calendar/8762997/6th-boys-basketball-practice
DTSTART:20251119T213000Z
DTEND:20251119T224500Z
END:VEVENT
END:VCALENDAR
