BEGIN:VCALENDAR
VERSION:2.0
PRODID:SchoolNow
CALSCALE:GREGORIAN
BEGIN:VEVENT
UID:6011d2a6-acad-11f0-8cb7-0e269b15d9b5
DTSTAMP:20251217T095536Z
SUMMARY:7th/8th Boys Basketball Practice
URL;VALUE=URI:https://www.brookfieldchristian.org/athletics/basketball-boys
 -7th/calendar/8732954/7th-8th-boys-basketball-practice
DTSTART:20260121T003000Z
DTEND:20260121T020000Z
END:VEVENT
END:VCALENDAR
