BEGIN:VCALENDAR
VERSION:2.0
PRODID:SchoolNow
CALSCALE:GREGORIAN
BEGIN:VEVENT
UID:d5a3c0fa-ae2a-11f0-bec3-0a58a9feac02
DTSTAMP:20251217T095536Z
SUMMARY:7th Boys Game Vs Trinity Freidstadt
URL;VALUE=URI:https://www.brookfieldchristian.org/athletics/basketball-boys
 -7th/calendar/8737238/7th-boys-game-vs-trinity-freidstadt
DTSTART:20251121T013000Z
DTEND:20251121T023000Z
END:VEVENT
END:VCALENDAR
