BEGIN:VCALENDAR
VERSION:2.0
PRODID:SchoolNow
CALSCALE:GREGORIAN
BEGIN:VEVENT
UID:d5a3c4b0-ae2a-11f0-baea-0a58a9feac02
DTSTAMP:20251217T095536Z
SUMMARY:7th Boys Game vs St Paul’s
URL;VALUE=URI:https://www.brookfieldchristian.org/athletics/basketball-boys
 -7th/calendar/8737239/7th-boys-game-vs-st-paul-s
DTSTART:20251202T011500Z
DTEND:20251202T021500Z
END:VEVENT
END:VCALENDAR
