BEGIN:VCALENDAR
VERSION:2.0
PRODID:SchoolNow
CALSCALE:GREGORIAN
BEGIN:VEVENT
UID:d5a3c6c2-ae2a-11f0-b924-0a58a9feac02
DTSTAMP:20251217T095536Z
SUMMARY:7th Boys Game Vs St. John’s
URL;VALUE=URI:https://www.brookfieldchristian.org/athletics/basketball-boys
 -7th/calendar/8737240/7th-boys-game-vs-st-john-s
DTSTART:20251203T003000Z
DTEND:20251203T012000Z
END:VEVENT
END:VCALENDAR
