BEGIN:VCALENDAR
VERSION:2.0
PRODID:SchoolNow
CALSCALE:GREGORIAN
BEGIN:VEVENT
UID:cf546314-aec3-11f0-98cc-02bba22871fb
DTSTAMP:20251217T095536Z
SUMMARY:7th Boys Game Vs Divine Redeemer
URL;VALUE=URI:https://www.brookfieldchristian.org/athletics/basketball-boys
 -7th/calendar/8740010/7th-boys-game-vs-divine-redeemer
DTSTART:20251210T003000Z
DTEND:20251210T013000Z
END:VEVENT
END:VCALENDAR
