BEGIN:VCALENDAR
VERSION:2.0
PRODID:SchoolNow
CALSCALE:GREGORIAN
BEGIN:VEVENT
UID:cf546904-aec3-11f0-85ae-02bba22871fb
DTSTAMP:20251217T095536Z
SUMMARY:7th Boys Game @ Immanuel Lutheran
LOCATION:Immanuel Lutheran Church\, School and Child Care\, 13445 Hampton R
 d\, Brookfield\, WI 53005\, USA
URL;VALUE=URI:https://www.brookfieldchristian.org/athletics/basketball-boys
 -7th/calendar/8740011/7th-boys-game-immanuel-lutheran
DTSTART:20251218T223000Z
DTEND:20251218T233000Z
END:VEVENT
END:VCALENDAR
