BEGIN:VCALENDAR
VERSION:2.0
PRODID:SchoolNow
CALSCALE:GREGORIAN
BEGIN:VEVENT
UID:ce1567c2-aef6-11f0-89f1-0affdb0f5cf3
DTSTAMP:20251217T095536Z
SUMMARY:7th Boys Game vs Hales Corners
URL;VALUE=URI:https://www.brookfieldchristian.org/athletics/basketball-boys
 -7th/calendar/8741008/7th-boys-game-vs-hales-corners
DTSTART:20260106T233000Z
DTEND:20260107T003000Z
END:VEVENT
END:VCALENDAR
