BEGIN:VCALENDAR
VERSION:2.0
PRODID:SchoolNow
CALSCALE:GREGORIAN
BEGIN:VEVENT
UID:ce1589a0-aef6-11f0-84e8-0affdb0f5cf3
DTSTAMP:20251217T095536Z
SUMMARY:7th Boys Game Vs St Paul’s Grafton
URL;VALUE=URI:https://www.brookfieldchristian.org/athletics/basketball-boys
 -7th/calendar/8741009/7th-boys-game-vs-st-paul-s-grafton
DTSTART:20260109T003000Z
DTEND:20260109T013000Z
END:VEVENT
END:VCALENDAR
