BEGIN:VCALENDAR
VERSION:2.0
PRODID:SchoolNow
CALSCALE:GREGORIAN
BEGIN:VEVENT
UID:ce158b30-aef6-11f0-bcf5-0affdb0f5cf3
DTSTAMP:20251217T095536Z
SUMMARY:7th/8th Boys Basketball Practice
URL;VALUE=URI:https://www.brookfieldchristian.org/athletics/basketball-boys
 -7th/calendar/8741010/7th-8th-boys-basketball-practice
DTSTART:20260114T213000Z
DTEND:20260114T224500Z
END:VEVENT
END:VCALENDAR
