BEGIN:VCALENDAR
VERSION:2.0
PRODID:SchoolNow
CALSCALE:GREGORIAN
BEGIN:VEVENT
UID:ce158c52-aef6-11f0-ac35-0affdb0f5cf3
DTSTAMP:20251217T095536Z
SUMMARY:7th Boys Game Vs Brookfield Academy
URL;VALUE=URI:https://www.brookfieldchristian.org/athletics/basketball-boys
 -7th/calendar/8741011/7th-boys-game-vs-brookfield-academy
DTSTART:20260120T000000Z
DTEND:20260120T010000Z
END:VEVENT
END:VCALENDAR
