BEGIN:VCALENDAR
VERSION:2.0
PRODID:SchoolNow
CALSCALE:GREGORIAN
BEGIN:VEVENT
UID:ce158d56-aef6-11f0-88cf-0affdb0f5cf3
DTSTAMP:20251217T095536Z
SUMMARY:7th Boys Game @ FIL - Cedarburg
LOCATION:First Immanuel Lutheran Church & School\, W67N622 Evergreen Blvd\,
  Cedarburg\, WI 53012\, USA
URL;VALUE=URI:https://www.brookfieldchristian.org/athletics/basketball-boys
 -7th/calendar/8741012/7th-boys-game-fil-cedarburg
DTSTART:20260123T003000Z
DTEND:20260123T013000Z
END:VEVENT
END:VCALENDAR
