BEGIN:VCALENDAR
VERSION:2.0
PRODID:SchoolNow
CALSCALE:GREGORIAN
BEGIN:VEVENT
UID:ce158e50-aef6-11f0-afc2-0affdb0f5cf3
DTSTAMP:20251217T095536Z
SUMMARY:7th/8th Boys Basketball Practice
URL;VALUE=URI:https://www.brookfieldchristian.org/athletics/basketball-boys
 -7th/calendar/8741013/7th-8th-boys-basketball-practice
DTSTART:20260127T003000Z
DTEND:20260127T020000Z
END:VEVENT
END:VCALENDAR
