BEGIN:VCALENDAR
VERSION:2.0
PRODID:SchoolNow
CALSCALE:GREGORIAN
BEGIN:VEVENT
UID:ce158f36-aef6-11f0-ba55-0affdb0f5cf3
DTSTAMP:20251217T095536Z
SUMMARY:7th Boys Game @ St Marcus
LOCATION:St. Marcus School | North Avenue Campus\, 2215 N Palmer St\, Milwa
 ukee\, WI 53212\, USA
URL;VALUE=URI:https://www.brookfieldchristian.org/athletics/basketball-boys
 -7th/calendar/8741014/7th-boys-game-st-marcus
DTSTART:20260128T003000Z
DTEND:20260128T013000Z
END:VEVENT
END:VCALENDAR
