BEGIN:VCALENDAR
VERSION:2.0
PRODID:SchoolNow
CALSCALE:GREGORIAN
BEGIN:VEVENT
UID:ce1591fc-aef6-11f0-96ed-0affdb0f5cf3
DTSTAMP:20251217T095536Z
SUMMARY:7th Boys Game vs Star of Bethlehem
URL;VALUE=URI:https://www.brookfieldchristian.org/athletics/basketball-boys
 -7th/calendar/8741017/7th-boys-game-vs-star-of-bethlehem
DTSTART:20260203T230000Z
DTEND:20260204T000000Z
END:VEVENT
END:VCALENDAR
