BEGIN:VCALENDAR
VERSION:2.0
PRODID:SchoolNow
CALSCALE:GREGORIAN
BEGIN:VEVENT
UID:779e2fa8-b556-11f0-8661-0a58a9feac02
DTSTAMP:20251217T095536Z
SUMMARY:7th/8th Boys Basketball Practice
URL;VALUE=URI:https://www.brookfieldchristian.org/athletics/basketball-boys
 -7th/calendar/8760691/7th-8th-boys-basketball-practice
DTSTART:20251104T003000Z
DTEND:20251104T020000Z
END:VEVENT
END:VCALENDAR
