BEGIN:VCALENDAR
VERSION:2.0
PRODID:SchoolNow
CALSCALE:GREGORIAN
BEGIN:VEVENT
UID:779e567c-b556-11f0-992d-0a58a9feac02
DTSTAMP:20251217T095536Z
SUMMARY:7th/8th Basketball Practice
URL;VALUE=URI:https://www.brookfieldchristian.org/athletics/basketball-boys
 -7th/calendar/8760695/7th-8th-basketball-practice
DTSTART:20260106T003000Z
DTEND:20260106T020000Z
END:VEVENT
END:VCALENDAR
