BEGIN:VCALENDAR
VERSION:2.0
PRODID:SchoolNow
CALSCALE:GREGORIAN
BEGIN:VEVENT
UID:a853a148-c80f-11f0-bcc9-0ed0ab7c879d
DTSTAMP:20251217T095536Z
SUMMARY:7th/8th Boys Basketball Practice
URL;VALUE=URI:https://www.brookfieldchristian.org/athletics/basketball-boys
 -7th/calendar/8808241/7th-8th-boys-basketball-practice
DTSTART:20251126T003000Z
DTEND:20251126T020000Z
END:VEVENT
END:VCALENDAR
