BEGIN:VCALENDAR
VERSION:2.0
PRODID:SchoolNow
CALSCALE:GREGORIAN
BEGIN:VEVENT
UID:117560fa-d3d0-11f0-a23c-0affc8c0908f
DTSTAMP:20251217T095536Z
SUMMARY:7th/8th Basketball Practice
URL;VALUE=URI:https://www.brookfieldchristian.org/athletics/basketball-boys
 -7th/calendar/8819433/7th-8th-basketball-practice
DTSTART:20251213T183000Z
DTEND:20251213T203000Z
END:VEVENT
END:VCALENDAR
