BEGIN:VCALENDAR
VERSION:2.0
PRODID:SchoolNow
CALSCALE:GREGORIAN
BEGIN:VEVENT
UID:9c6ed426-ac9c-11f0-8204-0e13f3fd233f
DTSTAMP:20251216T200040Z
SUMMARY:7th/8th Boys Basketball Practice
URL;VALUE=URI:https://www.brookfieldchristian.org/athletics/basketball-boys
 -8th/calendar/8732821/7th-8th-boys-basketball-practice
DTSTART:20251030T233000Z
DTEND:20251031T010000Z
END:VEVENT
END:VCALENDAR
