BEGIN:VCALENDAR
VERSION:2.0
PRODID:SchoolNow
CALSCALE:GREGORIAN
BEGIN:VEVENT
UID:9c6ef924-ac9c-11f0-a688-0e13f3fd233f
DTSTAMP:20251216T200040Z
SUMMARY:7th/8th Boys Basketball Practice
URL;VALUE=URI:https://www.brookfieldchristian.org/athletics/basketball-boys
 -8th/calendar/8732828/7th-8th-boys-basketball-practice
DTSTART:20251114T003000Z
DTEND:20251114T020000Z
END:VEVENT
END:VCALENDAR
