BEGIN:VCALENDAR
VERSION:2.0
PRODID:SchoolNow
CALSCALE:GREGORIAN
BEGIN:VEVENT
UID:c7abffc0-ae1c-11f0-8c9b-0a58a9feac02
DTSTAMP:20251216T200040Z
SUMMARY:8th Boys Game Vs Aquinas
URL;VALUE=URI:https://www.brookfieldchristian.org/athletics/basketball-boys
 -8th/calendar/8737200/8th-boys-game-vs-aquinas
DTSTART:20251119T000000Z
DTEND:20251119T010000Z
END:VEVENT
END:VCALENDAR
