BEGIN:VCALENDAR
VERSION:2.0
PRODID:SchoolNow
CALSCALE:GREGORIAN
BEGIN:VEVENT
UID:c7ac0560-ae1c-11f0-8eb4-0a58a9feac02
DTSTAMP:20251216T200040Z
SUMMARY:8th Boys Game Vs St. John’s
URL;VALUE=URI:https://www.brookfieldchristian.org/athletics/basketball-boys
 -8th/calendar/8737201/8th-boys-game-vs-st-john-s
DTSTART:20251203T012000Z
DTEND:20251203T021000Z
END:VEVENT
END:VCALENDAR
