BEGIN:VCALENDAR
VERSION:2.0
PRODID:SchoolNow
CALSCALE:GREGORIAN
BEGIN:VEVENT
UID:c7ac06be-ae1c-11f0-9716-0a58a9feac02
DTSTAMP:20251216T200040Z
SUMMARY:8th Boys Game @ Mt Calvary Lutheran
LOCATION:Mount Calvary Lutheran Church\, 1941 Madison St\, Waukesha\, WI 53
 188\, USA
URL;VALUE=URI:https://www.brookfieldchristian.org/athletics/basketball-boys
 -8th/calendar/8737202/8th-boys-game-mt-calvary-lutheran
DTSTART:20251205T012000Z
DTEND:20251205T021000Z
END:VEVENT
END:VCALENDAR
