BEGIN:VCALENDAR
VERSION:2.0
PRODID:SchoolNow
CALSCALE:GREGORIAN
BEGIN:VEVENT
UID:124b0eec-aee8-11f0-985e-0a58a9feac02
DTSTAMP:20251216T200040Z
SUMMARY:8th Boys Game Vs Divine Redeemer
URL;VALUE=URI:https://www.brookfieldchristian.org/athletics/basketball-boys
 -8th/calendar/8740957/8th-boys-game-vs-divine-redeemer
DTSTART:20251210T013000Z
DTEND:20251210T023000Z
END:VEVENT
END:VCALENDAR
