BEGIN:VCALENDAR
VERSION:2.0
PRODID:SchoolNow
CALSCALE:GREGORIAN
BEGIN:VEVENT
UID:124b12ac-aee8-11f0-b658-0a58a9feac02
DTSTAMP:20251216T200040Z
SUMMARY:8th Boys Game @ Immanuel Lutheran
LOCATION:Immanuel Lutheran Church\, School and Child Care\, 13445 Hampton R
 d\, Brookfield\, WI 53005\, USA
URL;VALUE=URI:https://www.brookfieldchristian.org/athletics/basketball-boys
 -8th/calendar/8740959/8th-boys-game-immanuel-lutheran
DTSTART:20251219T003000Z
DTEND:20251219T013000Z
END:VEVENT
END:VCALENDAR
