BEGIN:VCALENDAR
VERSION:2.0
PRODID:SchoolNow
CALSCALE:GREGORIAN
BEGIN:VEVENT
UID:124b1482-aee8-11f0-8fe9-0a58a9feac02
DTSTAMP:20251216T200040Z
SUMMARY:8th Boys Game vs Hales Corners
URL;VALUE=URI:https://www.brookfieldchristian.org/athletics/basketball-boys
 -8th/calendar/8740961/8th-boys-game-vs-hales-corners
DTSTART:20260107T003000Z
DTEND:20260107T013000Z
END:VEVENT
END:VCALENDAR
