BEGIN:VCALENDAR
VERSION:2.0
PRODID:SchoolNow
CALSCALE:GREGORIAN
BEGIN:VEVENT
UID:124b15a4-aee8-11f0-8b2d-0a58a9feac02
DTSTAMP:20251216T200040Z
SUMMARY:8th Boys Game Vs St Paul’s Grafton
URL;VALUE=URI:https://www.brookfieldchristian.org/athletics/basketball-boys
 -8th/calendar/8740962/8th-boys-game-vs-st-paul-s-grafton
DTSTART:20260109T013000Z
DTEND:20260109T023000Z
END:VEVENT
END:VCALENDAR
