BEGIN:VCALENDAR
VERSION:2.0
PRODID:SchoolNow
CALSCALE:GREGORIAN
BEGIN:VEVENT
UID:124b1694-aee8-11f0-b35f-0a58a9feac02
DTSTAMP:20251216T200040Z
SUMMARY:8th Boys Game @ Grace Lutheran
LOCATION:Grace Evangelical Lutheran School\, N87W16173 Kenwood Blvd\, Menom
 onee Falls\, WI 53051\, USA
URL;VALUE=URI:https://www.brookfieldchristian.org/athletics/basketball-boys
 -8th/calendar/8740964/8th-boys-game-grace-lutheran
DTSTART:20260114T013000Z
DTEND:20260114T023000Z
END:VEVENT
END:VCALENDAR
