BEGIN:VCALENDAR
VERSION:2.0
PRODID:SchoolNow
CALSCALE:GREGORIAN
BEGIN:VEVENT
UID:124b18c4-aee8-11f0-b913-0a58a9feac02
DTSTAMP:20251216T200040Z
SUMMARY:8th Boys Game @ Heritage Christian
LOCATION:Heritage Christian Schools\, 3500 S Glen Park Rd\, New Berlin\, WI
  53151\, USA
URL;VALUE=URI:https://www.brookfieldchristian.org/athletics/basketball-boys
 -8th/calendar/8740966/8th-boys-game-heritage-christian
DTSTART:20260116T010000Z
DTEND:20260116T020000Z
END:VEVENT
END:VCALENDAR
