BEGIN:VCALENDAR
VERSION:2.0
PRODID:SchoolNow
CALSCALE:GREGORIAN
BEGIN:VEVENT
UID:124b19aa-aee8-11f0-bd3c-0a58a9feac02
DTSTAMP:20251216T200040Z
SUMMARY:8th Boys Game Vs Brookfield Academy
URL;VALUE=URI:https://www.brookfieldchristian.org/athletics/basketball-boys
 -8th/calendar/8740967/8th-boys-game-vs-brookfield-academy
DTSTART:20260120T010000Z
DTEND:20260120T020000Z
END:VEVENT
END:VCALENDAR
