BEGIN:VCALENDAR
VERSION:2.0
PRODID:SchoolNow
CALSCALE:GREGORIAN
BEGIN:VEVENT
UID:124b1a86-aee8-11f0-81f9-0a58a9feac02
DTSTAMP:20251216T200040Z
SUMMARY:8th Boys Game @ FIL - Cedarburg
LOCATION:First Immanuel Lutheran Church & School\, W67N622 Evergreen Blvd\,
  Cedarburg\, WI 53012\, USA
URL;VALUE=URI:https://www.brookfieldchristian.org/athletics/basketball-boys
 -8th/calendar/8740968/8th-boys-game-fil-cedarburg
DTSTART:20260123T013000Z
DTEND:20260123T023000Z
END:VEVENT
END:VCALENDAR
