BEGIN:VCALENDAR
VERSION:2.0
PRODID:SchoolNow
CALSCALE:GREGORIAN
BEGIN:VEVENT
UID:bf1517d4-b547-11f0-931c-0afffc7b4d8d
DTSTAMP:20251216T200040Z
SUMMARY:7th/8th Basketball Practice
URL;VALUE=URI:https://www.brookfieldchristian.org/athletics/basketball-boys
 -8th/calendar/8760686/7th-8th-basketball-practice
DTSTART:20251125T003000Z
DTEND:20251125T020000Z
END:VEVENT
END:VCALENDAR
