BEGIN:VCALENDAR
VERSION:2.0
PRODID:SchoolNow
CALSCALE:GREGORIAN
BEGIN:VEVENT
UID:50287400-be71-11f0-b795-0a58a9feac02
DTSTAMP:20251216T200040Z
SUMMARY:7/8 Boys Basketball
URL;VALUE=URI:https://www.brookfieldchristian.org/athletics/basketball-boys
 -8th/calendar/8787833/7-8-boys-basketball
DTSTART:20251114T230000Z
DTEND:20251115T000000Z
END:VEVENT
END:VCALENDAR
