BEGIN:VCALENDAR
VERSION:2.0
PRODID:SchoolNow
CALSCALE:GREGORIAN
BEGIN:VEVENT
UID:38ad8ee4-d3f4-11f0-9858-0a58a9feac02
DTSTAMP:20251216T200040Z
SUMMARY:7th/8th Boys Basketball Practice
URL;VALUE=URI:https://www.brookfieldchristian.org/athletics/basketball-boys
 -8th/calendar/8819492/7th-8th-boys-basketball-practice
DTSTART:20251211T003000Z
DTEND:20251211T020000Z
END:VEVENT
END:VCALENDAR
