BEGIN:VCALENDAR
VERSION:2.0
PRODID:SchoolNow
CALSCALE:GREGORIAN
BEGIN:VEVENT
UID:1d7bb802-acae-11f0-82f9-029e6d33bf05
DTSTAMP:20260421T211056Z
SUMMARY:7th/8th Girls Basketball Practice
URL;VALUE=URI:https://www.brookfieldchristian.org/athletics/basketball-girl
 s-7th-8th/calendar/8733294/7th-8th-girls-basketball-practice
DTSTART:20260105T230000Z
DTEND:20260106T003000Z
END:VEVENT
END:VCALENDAR
