BEGIN:VCALENDAR
VERSION:2.0
PRODID:SchoolNow
CALSCALE:GREGORIAN
BEGIN:VEVENT
UID:1d7bc810-acae-11f0-a524-029e6d33bf05
DTSTAMP:20260421T211056Z
SUMMARY:7th/8th Girls Basketball Practice
URL;VALUE=URI:https://www.brookfieldchristian.org/athletics/basketball-girl
 s-7th-8th/calendar/8733311/7th-8th-girls-basketball-practice
DTSTART:20260121T224500Z
DTEND:20260122T000000Z
END:VEVENT
END:VCALENDAR
