BEGIN:VCALENDAR
VERSION:2.0
PRODID:SchoolNow
CALSCALE:GREGORIAN
BEGIN:VEVENT
UID:1d7bc9e6-acae-11f0-a061-029e6d33bf05
DTSTAMP:20260421T150605Z
SUMMARY:7th/8th Girls Basketball Practice
URL;VALUE=URI:https://www.brookfieldchristian.org/athletics/basketball-girl
 s-7th-8th/calendar/8733313/7th-8th-girls-basketball-practice
DTSTART:20260204T224500Z
DTEND:20260205T000000Z
END:VEVENT
END:VCALENDAR
